BEGIN:VCALENDAR
VERSION:2.0
PRODID:-//Library Market//iCal Export//EN
BEGIN:VEVENT
SUMMARY:Story to S.T.E.M.
UID:22441
DTSTAMP:20260420T120700Z
DTSTART:20270922T143000Z
DTEND:20270922T153000Z
LOCATION:6670 US 1 South, St. Augustine, FL 32086, United States
ROOM: Southeast Large Meeting Room (Sides No. 1 &amp; No. 2 Combined)
DESCRIPTION:
URL:https://sjcpls.librarycalendar.com/event/story-stem-22441
END:VEVENT
END:VCALENDAR
