BEGIN:VCALENDAR
VERSION:2.0
PRODID:-//Library Market//iCal Export//EN
BEGIN:VEVENT
SUMMARY:Story to S.T.E.M.
UID:22350
DTSTAMP:20260422T021400Z
DTSTART:20270908T143000Z
DTEND:20270908T153000Z
LOCATION:6670 US 1 South, St. Augustine, FL 32086, United States
ROOM: Southeast Large Meeting Room (Sides No. 1 &amp; No. 2 Combined)
DESCRIPTION:
URL:https://sjcpls.librarycalendar.com/event/story-stem-22350
END:VEVENT
END:VCALENDAR
