BEGIN:VCALENDAR
VERSION:2.0
PRODID:-//Library Market//iCal Export//EN
BEGIN:VEVENT
SUMMARY:Hurricane Preparedness with St. Johns County Emergency Operations
UID:20798
DTSTAMP:20260422T024100Z
DTSTART:20260521T143000Z
DTEND:20260521T153000Z
LOCATION:124 Sea Grove Main St, St. Augustine Beach, FL 32080, United Stat
 es
ROOM: Anastasia Island Events Room
DESCRIPTION:Join staff from St. Johns County Emergency Management for an i
 nformative seminar where participants will learn valuable insights and tip
 s to safeguard their home and family before, during and after a hurricane.
  Don’t miss this opportunity to ensure you’re ready to weather any sto
 rm that comes our way! This talk is being held at the following libraries
 :Anastasia Island: Thursday, May 21 @ 10:30 a.m.Ponte Vedra Beach: Friday,
  May 22 @ 11:00 a.m.Hastings: Tuesday, May 26 @ 11:00 a.m.Main: Wednesday,
  June 17 @ 2:00 p.m.
URL:https://sjcpls.librarycalendar.com/event/hurricane-prep-hold-20798
END:VEVENT
END:VCALENDAR
