BEGIN:VCALENDAR
VERSION:2.0
PRODID:-//Library Market//iCal Export//EN
BEGIN:VEVENT
SUMMARY:Tech-Help with Jose
UID:20495
DTSTAMP:20260420T002700Z
DTSTART:20260527T140000Z
DTEND:20260527T160000Z
LOCATION:1960 N Ponce De Leon Blvd, St. Augustine, FL 32084, United States
ROOM: Tech-Help with Jose
DESCRIPTION:Are you frustrated by technology? Do you need help navigating 
 through your tablet, phone, or device? Meet Jose for a free 1-on-1 tech he
 lp session.  Please bring your device and make sure it is fully charged.R
 egistration is not required.This program takes place at the Main Branch Li
 brary, 1960 N Ponce De Leon BLVD St. Augustine, FL 32084.Please contact th
 e Main Library at 904-827-6940 if you have any questions.
URL:https://sjcpls.librarycalendar.com/event/tech-help-jose-20495
END:VEVENT
END:VCALENDAR
