BEGIN:VCALENDAR
VERSION:2.0
PRODID:-//Library Market//iCal Export//EN
BEGIN:VEVENT
SUMMARY:Stitch &#039;N Flix (Movie Night)
UID:17825
DTSTAMP:20260421T083600Z
DTSTART:20260601T210000Z
DTEND:20260601T233000Z
LOCATION:6670 US 1 South, St. Augustine, FL 32086, United States
ROOM: Southeast Large Meeting Room (Sides No. 1 &amp; No. 2 Combined)
DESCRIPTION:Cozy up with your favorite craft and watch a movie with us! Sn
 acks and drinks will be provided by the Friends of the Southeast Branch Li
 brary. Note: Patrons are encouraged to bring a craft to work on, but it i
 s not a requirement in order to enjoy this movie. This month we will be w
 atching Brooklyn.From IMDb: &quot;An Irish immigrant lands in 1950s Brookl
 yn, where she quickly falls into a romance with a local. When her past cat
 ches up with her, however, she must choose between two countries and the l
 ives that exist within.&quot;
URL:https://sjcpls.librarycalendar.com/event/possible-adult-program-17825
END:VEVENT
END:VCALENDAR
